BEGIN:VCALENDAR
VERSION:2.0
PRODID:-//Plone.org//NONSGML plone.app.event//EN
X-WR-TIMEZONE:US/Eastern
BEGIN:VEVENT
SUMMARY:Sewing Club - Beach Towel Bags
DTSTART;TZID=US/Eastern:20180517T130000
DTEND;TZID=US/Eastern:20180517T160000
DTSTAMP:20260420T210202Z
UID:25f04412425245698cfd0a09b7f58d25@saas_stack_varnish:6080
CONTACT:810-688-2282\, northbranchlibrary@northbranchlibrary.net
CREATED:20180323T141541Z
DESCRIPTION:This Beach Towel Pillow Blanket is perfect for swimming lesson
 s and the Pool or Beach. It will come in so handy and it's super easy to m
 ake and looks great. \nYou will need to bring your personal sewing machine
  to this class.
LAST-MODIFIED:20180323T141546Z
LOCATION:NBTL Meeting Room
URL:https://northbranch.ploud.net/news-events/lib-cal/sewing-club-beach-to
 wel-bags
END:VEVENT
BEGIN:VTIMEZONE
TZID:US/Eastern
X-LIC-LOCATION:US/Eastern
BEGIN:DAYLIGHT
DTSTART:20180311T030000
TZNAME:EDT
TZOFFSETFROM:-0500
TZOFFSETTO:-0400
END:DAYLIGHT
END:VTIMEZONE
END:VCALENDAR
