BEGIN:VCALENDAR
VERSION:2.0
PRODID:-//Plone.org//NONSGML plone.app.event//EN
X-WR-TIMEZONE:US/Eastern
BEGIN:VEVENT
SUMMARY:Skittles Tasting
DTSTART;TZID=US/Eastern:20250722T100000
DTEND;TZID=US/Eastern:20250726T140000
DTSTAMP:20260419T221300Z
UID:411753ec66044932aa43a615d8b83884@saas_stack_varnish:6080
ATTENDEE;CN="All ages welcome.";ROLE=REQ-PARTICIPANT:All ages welcome.
CONTACT:810-688-2282\, northbranchlibrary@northbranchlibrary.net
CREATED:20250717T172916Z
DESCRIPTION:Come in and try a variety of skittles and vote for your favori
 te!
LAST-MODIFIED:20250717T172923Z
LOCATION:North Branch Township Library
URL:https://northbranch.ploud.net/news-events/lib-cal/skittles-tasting
END:VEVENT
BEGIN:VTIMEZONE
TZID:US/Eastern
X-LIC-LOCATION:US/Eastern
BEGIN:DAYLIGHT
DTSTART:20250309T030000
TZNAME:EDT
TZOFFSETFROM:-0500
TZOFFSETTO:-0400
END:DAYLIGHT
END:VTIMEZONE
END:VCALENDAR
