BEGIN:VCALENDAR
VERSION:2.0
PRODID:-//Plone.org//NONSGML plone.app.event//EN
X-WR-TIMEZONE:US/Eastern
BEGIN:VEVENT
SUMMARY:Sloan Museum Program
DTSTART;TZID=US/Eastern:20250718T110000
DTEND;TZID=US/Eastern:20250718T120000
DTSTAMP:20260419T221245Z
UID:defd9436cc25486182e23bee9da14072@saas_stack_varnish:6080
ATTENDEE;CN="Aimed towards ages 4-12. Sign up at the library or call ahead
 . Two time slots available!";ROLE=REQ-PARTICIPANT:Aimed towards ages 4-12.
  Sign up at the library or call ahead. Two time slots available!
CONTACT:810-688-2282\, northbranchlibrary@northbranchlibrary.net
CREATED:20250703T185437Z
DESCRIPTION:Join us in collaboration with Sloan Museum to learn all about 
 the science of color! Call now to sign up for your time slot. For ages 4-1
 2.
LAST-MODIFIED:20250703T185901Z
LOCATION:North Branch Township Library
URL:https://northbranch.ploud.net/news-events/lib-cal/sloan-museum-program
END:VEVENT
BEGIN:VTIMEZONE
TZID:US/Eastern
X-LIC-LOCATION:US/Eastern
BEGIN:DAYLIGHT
DTSTART:20250309T030000
TZNAME:EDT
TZOFFSETFROM:-0500
TZOFFSETTO:-0400
END:DAYLIGHT
END:VTIMEZONE
END:VCALENDAR
