BEGIN:VCALENDAR
VERSION:2.0
PRODID:-//Plone.org//NONSGML plone.app.event//EN
X-WR-TIMEZONE:US/Eastern
BEGIN:VEVENT
SUMMARY:Sloan Museum Programs
DTSTART;TZID=US/Eastern:20170629T103000
DTEND;TZID=US/Eastern:20170629T113000
DTSTAMP:20260420T204151Z
UID:8b9445a2a15b44c793e491dd00db9b21@saas_stack_varnish:6080
ATTENDEE;CN="Children's Program for ages 4-10";ROLE=REQ-PARTICIPANT:Childr
 en's Program for ages 4-10
CONTACT:Christi Mortell\, 810-688-2282\, northbranchlibrary@northbranchlib
 rary.net
CREATED:20170515T192503Z
DESCRIPTION:"Under Construction"  Sloan instructors will help us build str
 uctures with blocks\, magnets and other building material.  Class size is 
 limited to 25 participants per program.  Please sign up at the circulation
  desk.
LAST-MODIFIED:20170515T192507Z
LOCATION:NBTL
URL:https://northbranch.ploud.net/news-events/lib-cal/sloan-museum-program
 s
END:VEVENT
BEGIN:VTIMEZONE
TZID:US/Eastern
X-LIC-LOCATION:US/Eastern
BEGIN:DAYLIGHT
DTSTART:20170312T030000
TZNAME:EDT
TZOFFSETFROM:-0500
TZOFFSETTO:-0400
END:DAYLIGHT
END:VTIMEZONE
END:VCALENDAR
