BEGIN:VCALENDAR
VERSION:2.0
PRODID:-//Plone.org//NONSGML plone.app.event//EN
X-WR-TIMEZONE:US/Eastern
BEGIN:VEVENT
SUMMARY:Sloan Museum R2K Rockets
DTSTART;TZID=US/Eastern:20190620T123000
DTEND;TZID=US/Eastern:20190620T133000
DTSTAMP:20260420T155650Z
UID:0a7d3ba52cc042ca851974bb2c12ca6b@saas_stack_varnish:6080
ATTENDEE;CN="8-12 years of age.  25 participants";ROLE=REQ-PARTICIPANT:8-1
 2 years of age.  25 participants
CONTACT:Kelli Lovasz\, 8106882282\, northbranchlibrary@northbranchlibrary.
 net
CREATED:20190605T160002Z
DESCRIPTION:Class limited to 25 participants 8-12 years of age: Preregistr
 ation is required.\nBuild and launch an air-powered R2K Rocket.  Easy to b
 uild and easy to fly.
LAST-MODIFIED:20190605T160006Z
LOCATION:NBTL Meeting Room
URL:https://northbranch.ploud.net/news-events/lib-cal/sloan-museum-r2k-roc
 kets
END:VEVENT
BEGIN:VTIMEZONE
TZID:US/Eastern
X-LIC-LOCATION:US/Eastern
BEGIN:DAYLIGHT
DTSTART:20190310T030000
TZNAME:EDT
TZOFFSETFROM:-0500
TZOFFSETTO:-0400
END:DAYLIGHT
END:VTIMEZONE
END:VCALENDAR
