BEGIN:VCALENDAR
VERSION:2.0
PRODID:-//Plone.org//NONSGML plone.app.event//EN
X-WR-TIMEZONE:US/Eastern
BEGIN:VEVENT
SUMMARY:Small Space Gardening
DTSTART;TZID=US/Eastern:20170520T103000
DTEND;TZID=US/Eastern:20170520T113000
DTSTAMP:20260422T120551Z
UID:95d5777b4b0349b4ba2389d84be71b58@saas_stack_varnish:6080
CONTACT:Annette Adams\, 810-688-2282\, annettenblibrary@gmail.com
CREATED:20170515T183322Z
DESCRIPTION:Have you always wanted to have a vegetable garden\, but don't 
 have space for it?  This class will teach you how to maximize your space t
 hrough pots\, square foot gardening and various other techniques.
LAST-MODIFIED:20170515T183328Z
LOCATION:NBTL Meeting Room
URL:https://northbranch.ploud.net/news-events/lib-cal/small-space-gardenin
 g
END:VEVENT
BEGIN:VTIMEZONE
TZID:US/Eastern
X-LIC-LOCATION:US/Eastern
BEGIN:DAYLIGHT
DTSTART:20170312T030000
TZNAME:EDT
TZOFFSETFROM:-0500
TZOFFSETTO:-0400
END:DAYLIGHT
END:VTIMEZONE
END:VCALENDAR
