BEGIN:VCALENDAR
VERSION:2.0
PRODID:-//Plone.org//NONSGML plone.app.event//EN
X-WR-TIMEZONE:US/Eastern
BEGIN:VEVENT
SUMMARY:Smitten & Arm Scarf Class
DTSTART;TZID=US/Eastern:20151107T103000
DTEND;TZID=US/Eastern:20151107T123000
DTSTAMP:20260420T162536Z
UID:85c88416ca8a44829bb6e7bfa326cf81@saas_stack_varnish:6080
CONTACT:Christi Mortell\, 810-688-2282\, northbranchlibrary@northbranchlib
 rary.net
CREATED:20151029T151023Z
DESCRIPTION:Learn how to make Sweater Mittens and Arm knit scarves.  Pre-r
 egistration is required.  Please call the library to sign up and receive a
  supply list.
LAST-MODIFIED:20151029T151029Z
LOCATION:NBTL Meeting Room
URL:https://northbranch.ploud.net/news-events/lib-cal/smitten-arm-scarf-cl
 ass
END:VEVENT
BEGIN:VTIMEZONE
TZID:US/Eastern
X-LIC-LOCATION:US/Eastern
BEGIN:STANDARD
DTSTART:20151101T010000
TZNAME:EST
TZOFFSETFROM:-0400
TZOFFSETTO:-0500
END:STANDARD
END:VTIMEZONE
END:VCALENDAR
