BEGIN:VCALENDAR
VERSION:2.0
PRODID:-//Plone.org//NONSGML plone.app.event//EN
X-WR-TIMEZONE:US/Eastern
BEGIN:VEVENT
SUMMARY:Smitten Class
DTSTART;TZID=US/Eastern:20181129T150000
DTEND;TZID=US/Eastern:20181129T180000
DTSTAMP:20260420T185707Z
UID:c383727eab2646c8bf6ba1d8382e70bb@saas_stack_varnish:6080
CONTACT:Christi Mortell\, 810-688-2282\, northbranchlibrary@northbranchlib
 rary.net
CREATED:20180830T172908Z
DESCRIPTION:Join Christi and Kelli to learn how to make mittens out of old
  sweaters.  You will need to bring your sewing machine to this class.  Cal
 l the library for a materials list and to register
LAST-MODIFIED:20180928T155206Z
LOCATION:NBTL Meeting Room
URL:https://northbranch.ploud.net/news-events/lib-cal/smitten-class
END:VEVENT
BEGIN:VTIMEZONE
TZID:US/Eastern
X-LIC-LOCATION:US/Eastern
BEGIN:STANDARD
DTSTART:20181104T010000
TZNAME:EST
TZOFFSETFROM:-0400
TZOFFSETTO:-0500
END:STANDARD
END:VTIMEZONE
END:VCALENDAR
