BEGIN:VCALENDAR
VERSION:2.0
PRODID:-//Plone.org//NONSGML plone.app.event//EN
X-WR-TIMEZONE:US/Eastern
BEGIN:VEVENT
SUMMARY:Snack Craft - Butterflies and Bats
DTSTART;TZID=US/Eastern:20160407T110000
DTEND;TZID=US/Eastern:20160407T170000
DTSTAMP:20260420T185251Z
UID:a369e9742e2d4c0b9505761377f2ca6c@saas_stack_varnish:6080
CREATED:20160404T154722Z
DESCRIPTION:Spring Break Make & Take.  Stop in and make a craft to take ho
 me. Today enjoy a snack craft made with goldfish crackers.
LAST-MODIFIED:20160404T154726Z
URL:https://northbranch.ploud.net/news-events/lib-cal/snack-craft-butterfl
 ies-and-bats
END:VEVENT
BEGIN:VTIMEZONE
TZID:US/Eastern
X-LIC-LOCATION:US/Eastern
BEGIN:DAYLIGHT
DTSTART:20160313T030000
TZNAME:EDT
TZOFFSETFROM:-0500
TZOFFSETTO:-0400
END:DAYLIGHT
END:VTIMEZONE
END:VCALENDAR
