BEGIN:VCALENDAR
VERSION:2.0
PRODID:-//Plone.org//NONSGML plone.app.event//EN
X-WR-TIMEZONE:US/Eastern
BEGIN:VEVENT
SUMMARY:SNOWMAN MOSAIC
DTSTART;TZID=US/Eastern:20181213T160000
DTEND;TZID=US/Eastern:20181213T170000
DTSTAMP:20260420T140920Z
UID:0ff09db18ff74b52bfc86c6b24961d98@saas_stack_varnish:6080
ATTENDEE;CN="Tweens and adults";ROLE=REQ-PARTICIPANT:Tweens and adults
CONTACT:Kelli Lovasz\, 8106882282\, northbranchlibrary@northbranchlibrary.
 net
CREATED:20181204T152025Z
DESCRIPTION:Painterly Pottery will be helping us create a fun snowman mosa
 ic.  Pre-registration is required for this class.
LAST-MODIFIED:20181204T152029Z
LOCATION:NBTL Meeting Room
URL:https://northbranch.ploud.net/news-events/lib-cal/snowman-mosaic
END:VEVENT
BEGIN:VTIMEZONE
TZID:US/Eastern
X-LIC-LOCATION:US/Eastern
BEGIN:STANDARD
DTSTART:20181104T010000
TZNAME:EST
TZOFFSETFROM:-0400
TZOFFSETTO:-0500
END:STANDARD
END:VTIMEZONE
END:VCALENDAR
