BEGIN:VCALENDAR
VERSION:2.0
PRODID:-//Plone.org//NONSGML plone.app.event//EN
X-WR-TIMEZONE:US/Eastern
BEGIN:VEVENT
SUMMARY:Space Day
DTSTART;TZID=US/Eastern:20190719T123000
DTEND;TZID=US/Eastern:20190719T150000
DTSTAMP:20260420T105836Z
UID:c0e6e8b64f02408a95dafa858b5e0f3f@saas_stack_varnish:6080
ATTENDEE;CN="All ages, but geared for 5-10 year olds";ROLE=REQ-PARTICIPANT
 :All ages, but geared for 5-10 year olds
CONTACT:Kelli Lovasz\, 8106882282\, northbranchlibrary@northbranchlibrary.
 net
CREATED:20190605T162111Z
DESCRIPTION:Celebrate the 50th anniversary of the Moon Landing at the NBTL
 .  We'll have a series of Space Stations for children to move through.  Ta
 ke a selfie with an astronaut\, fly a UFO\, make a droid and complete a sp
 ace task.  \nStations can be completed any time during the Space Day hours
 .
LAST-MODIFIED:20190605T162115Z
LOCATION:NBTL
URL:https://northbranch.ploud.net/news-events/lib-cal/space-day
END:VEVENT
BEGIN:VTIMEZONE
TZID:US/Eastern
X-LIC-LOCATION:US/Eastern
BEGIN:DAYLIGHT
DTSTART:20190310T030000
TZNAME:EDT
TZOFFSETFROM:-0500
TZOFFSETTO:-0400
END:DAYLIGHT
END:VTIMEZONE
END:VCALENDAR
