BEGIN:VCALENDAR
VERSION:2.0
PRODID:-//Plone.org//NONSGML plone.app.event//EN
X-WR-TIMEZONE:US/Eastern
BEGIN:VEVENT
SUMMARY:Spooktackular Magic Show
DTSTART;TZID=US/Eastern:20221008T120000
DTEND;TZID=US/Eastern:20221008T130000
DTSTAMP:20260420T010001Z
UID:e026937bcea7402995bc9f07d449aa06@saas_stack_varnish:6080
ATTENDEE;CN="All Ages";ROLE=REQ-PARTICIPANT:All Ages
CONTACT:Kelli Lovasz\, 810-688-2282\, northbranchlibary@northbranchlibrary
 .net
CREATED:20220930T153446Z
DESCRIPTION:Join us at the North Branch Memorial Park for a Spooktackular 
 Magic Show with Joel Tacey
LAST-MODIFIED:20220930T153451Z
LOCATION:North Branch Memorial Park
URL:https://northbranch.ploud.net/news-events/lib-cal/spooktackular-magic-
 show
END:VEVENT
BEGIN:VTIMEZONE
TZID:US/Eastern
X-LIC-LOCATION:US/Eastern
BEGIN:DAYLIGHT
DTSTART:20220313T030000
TZNAME:EDT
TZOFFSETFROM:-0500
TZOFFSETTO:-0400
END:DAYLIGHT
END:VTIMEZONE
END:VCALENDAR
