BEGIN:VCALENDAR
VERSION:2.0
PRODID:-//Plone.org//NONSGML plone.app.event//EN
X-WR-TIMEZONE:US/Eastern
BEGIN:VEVENT
SUMMARY:Spooktacular Magic Show
DTSTART;TZID=US/Eastern:20230923T120000
DTEND;TZID=US/Eastern:20230923T130000
DTSTAMP:20260419T214703Z
UID:0bbaa5ac78954db685243ec60eee14e0@saas_stack_varnish:6080
CONTACT:Kelli Lovasz\, 810-688-2282\, northbranchlibrary@northbranchlibrar
 y.net
CREATED:20230913T171630Z
DESCRIPTION:NBTL will host Joel Tacey at the North Branch Township Park fo
 r his Spooktacular Magic Show
LAST-MODIFIED:20230913T171637Z
LOCATION:North Branch Park
URL:https://northbranch.ploud.net/news-events/lib-cal/spooktacular-magic-s
 how
END:VEVENT
BEGIN:VTIMEZONE
TZID:US/Eastern
X-LIC-LOCATION:US/Eastern
BEGIN:DAYLIGHT
DTSTART:20230312T030000
TZNAME:EDT
TZOFFSETFROM:-0500
TZOFFSETTO:-0400
END:DAYLIGHT
END:VTIMEZONE
END:VCALENDAR
