BEGIN:VCALENDAR
VERSION:2.0
PRODID:-//Plone.org//NONSGML plone.app.event//EN
X-WR-TIMEZONE:US/Eastern
BEGIN:VEVENT
SUMMARY:Spring Break Kid's Craft
DTSTART;TZID=US/Eastern:20250403T120000
DTEND;TZID=US/Eastern:20250403T190000
DTSTAMP:20260419T201710Z
UID:11b1eb2601944df68eeba8dac109b5e5@saas_stack_varnish:6080
CONTACT:810-688-2282\, northbranchlibrary@northbranchlibrary.net
CREATED:20250327T213122Z
DESCRIPTION:Join us for a cute spring themed craft!
LAST-MODIFIED:20250327T213133Z
LOCATION:North Branch Township Library
URL:https://northbranch.ploud.net/news-events/lib-cal/spring-break-kids-cr
 aft-1
END:VEVENT
BEGIN:VTIMEZONE
TZID:US/Eastern
X-LIC-LOCATION:US/Eastern
BEGIN:DAYLIGHT
DTSTART:20250309T030000
TZNAME:EDT
TZOFFSETFROM:-0500
TZOFFSETTO:-0400
END:DAYLIGHT
END:VTIMEZONE
END:VCALENDAR
