BEGIN:VCALENDAR
VERSION:2.0
PRODID:-//Plone.org//NONSGML plone.app.event//EN
X-WR-TIMEZONE:US/Eastern
BEGIN:VEVENT
SUMMARY:Spring Break Kid's Craft
DTSTART;TZID=US/Eastern:20250401T100000
DTEND;TZID=US/Eastern:20250401T163000
DTSTAMP:20260419T201352Z
UID:0d10e0a82fd440e187238c2ab758684e@saas_stack_varnish:6080
CONTACT:810-688-2282\, northbranchlibrary@northbranchlibrary.net
CREATED:20250320T161231Z
LAST-MODIFIED:20250320T161238Z
LOCATION:North Branch Township Library
URL:https://northbranch.ploud.net/news-events/lib-cal/spring-break-kids-cr
 aft
END:VEVENT
BEGIN:VTIMEZONE
TZID:US/Eastern
X-LIC-LOCATION:US/Eastern
BEGIN:DAYLIGHT
DTSTART:20250309T030000
TZNAME:EDT
TZOFFSETFROM:-0500
TZOFFSETTO:-0400
END:DAYLIGHT
END:VTIMEZONE
END:VCALENDAR
