BEGIN:VCALENDAR
VERSION:2.0
PRODID:-//Plone.org//NONSGML plone.app.event//EN
X-WR-TIMEZONE:US/Eastern
BEGIN:VEVENT
SUMMARY:Spring Break Make & Take
DTSTART;VALUE=DATE:20180326
DTEND;VALUE=DATE:20180331
DTSTAMP:20260420T172938Z
UID:2041a279f4804f25ac3d3db05eb0620b@saas_stack_varnish:6080
ATTENDEE;CN="Open to all ages, geared toward elementary grade level";ROLE=
 REQ-PARTICIPANT:Open to all ages, geared toward elementary grade level
CONTACT:810-688-2282\, northbranchlibrary@northbranchlibrary.net
CREATED:20180323T180254Z
DESCRIPTION:Throughout Spring Break we will be offering daily Make & Take 
 crafts.  The crafts will change each day.  We will begin to clean up the c
 raft 1/2 hour before closing time.
LAST-MODIFIED:20180323T180304Z
LOCATION:NBTL
URL:https://northbranch.ploud.net/news-events/lib-cal/spring-break-make-ta
 ke
END:VEVENT
END:VCALENDAR
