BEGIN:VCALENDAR
VERSION:2.0
PRODID:-//Plone.org//NONSGML plone.app.event//EN
X-WR-TIMEZONE:US/Eastern
BEGIN:VEVENT
SUMMARY:Spring Craft Day
DTSTART;TZID=US/Eastern:20220407T140000
DTEND;TZID=US/Eastern:20220407T180000
DTSTAMP:20260420T024345Z
UID:bce22e2411ab4cb5959653fa4687564a@saas_stack_varnish:6080
ATTENDEE;CN="all ages.  Under 12 must be accompanied by an adult";ROLE=REQ
 -PARTICIPANT:all ages.  Under 12 must be accompanied by an adult
CONTACT:Christi Braxton\, 8106882282\, northbranchlibary@northbranchlibrar
 y.net
CREATED:20220321T191348Z
DESCRIPTION:Craft day for all ages.  Make a sock bunny and an Easter egg c
 andlestick.  Under 12 must be accompanied by an adult
LAST-MODIFIED:20220321T191353Z
LOCATION:NBTL Meeting Room
URL:https://northbranch.ploud.net/news-events/lib-cal/spring-craft-day
END:VEVENT
BEGIN:VTIMEZONE
TZID:US/Eastern
X-LIC-LOCATION:US/Eastern
BEGIN:DAYLIGHT
DTSTART:20220313T030000
TZNAME:EDT
TZOFFSETFROM:-0500
TZOFFSETTO:-0400
END:DAYLIGHT
END:VTIMEZONE
END:VCALENDAR
