BEGIN:VCALENDAR
VERSION:2.0
PRODID:-//Plone.org//NONSGML plone.app.event//EN
X-WR-TIMEZONE:US/Eastern
BEGIN:VEVENT
SUMMARY:Spring Make & Take
DTSTART;TZID=US/Eastern:20220514T103000
DTEND;TZID=US/Eastern:20220514T133000
DTSTAMP:20260420T064624Z
UID:72f6ceec8c1446638de2aa8d7d5cd7e1@saas_stack_varnish:6080
CONTACT:Kelli Lovasz\, 810-688-2282\, northbranchlibary@northbranchlibrary
 .net
CREATED:20220504T173814Z
DESCRIPTION:Make a flower craft to take home
LAST-MODIFIED:20220504T173819Z
LOCATION:NBTL
URL:https://northbranch.ploud.net/news-events/lib-cal/spring-make-take
END:VEVENT
BEGIN:VTIMEZONE
TZID:US/Eastern
X-LIC-LOCATION:US/Eastern
BEGIN:DAYLIGHT
DTSTART:20220313T030000
TZNAME:EDT
TZOFFSETFROM:-0500
TZOFFSETTO:-0400
END:DAYLIGHT
END:VTIMEZONE
END:VCALENDAR
