BEGIN:VCALENDAR
VERSION:2.0
PRODID:-//Plone.org//NONSGML plone.app.event//EN
X-WR-TIMEZONE:US/Eastern
BEGIN:VEVENT
SUMMARY:St. Patrick's Day Craft
DTSTART;TZID=US/Eastern:20250315T100000
DTEND;TZID=US/Eastern:20250315T140000
DTSTAMP:20260419T201622Z
UID:d68fd5fc2f0b48f4afb56c3d94a2e659@saas_stack_varnish:6080
CONTACT:810-688-2282\, northbranchlibrary@northbranchlibrary.net
CREATED:20250306T181103Z
DESCRIPTION:Join us for a Leprechaun themed craft to celebrate St. Patrick
 's Day!
LAST-MODIFIED:20250306T181116Z
LOCATION:North Branch Township Library
URL:https://northbranch.ploud.net/news-events/lib-cal/st-patricks-day-craf
 t
END:VEVENT
BEGIN:VTIMEZONE
TZID:US/Eastern
X-LIC-LOCATION:US/Eastern
BEGIN:DAYLIGHT
DTSTART:20250309T030000
TZNAME:EDT
TZOFFSETFROM:-0500
TZOFFSETTO:-0400
END:DAYLIGHT
END:VTIMEZONE
END:VCALENDAR
