BEGIN:VCALENDAR
VERSION:2.0
PRODID:-//Plone.org//NONSGML plone.app.event//EN
X-WR-TIMEZONE:US/Eastern
BEGIN:VEVENT
SUMMARY:Stem Wednesday
DTSTART;TZID=US/Eastern:20230329T120000
DTEND;TZID=US/Eastern:20230329T190000
DTSTAMP:20260419T232319Z
UID:fdd7bc5974474616babed9eccdcd5018@saas_stack_varnish:6080
CREATED:20230323T183215Z
DESCRIPTION:Join us for a STEM activity to challenge your brain
LAST-MODIFIED:20230323T183223Z
URL:https://northbranch.ploud.net/news-events/lib-cal/stem-wednesday
END:VEVENT
BEGIN:VTIMEZONE
TZID:US/Eastern
X-LIC-LOCATION:US/Eastern
BEGIN:DAYLIGHT
DTSTART:20230312T030000
TZNAME:EDT
TZOFFSETFROM:-0500
TZOFFSETTO:-0400
END:DAYLIGHT
END:VTIMEZONE
END:VCALENDAR
