BEGIN:VCALENDAR
VERSION:2.0
PRODID:-//Plone.org//NONSGML plone.app.event//EN
X-WR-TIMEZONE:US/Eastern
BEGIN:VEVENT
SUMMARY:Steven's Puppets
DTSTART;TZID=US/Eastern:20170727T110000
DTEND;TZID=US/Eastern:20170727T120000
DTSTAMP:20260421T020849Z
UID:9db1edd6e462476382b9871a13acee48@saas_stack_varnish:6080
CREATED:20170515T194325Z
DESCRIPTION:The beauty and charm of wooden marionettes.  They'll bring lau
 ghter and joy to your whole family.
LAST-MODIFIED:20170515T194330Z
URL:https://northbranch.ploud.net/news-events/lib-cal/stevens-puppets
END:VEVENT
BEGIN:VTIMEZONE
TZID:US/Eastern
X-LIC-LOCATION:US/Eastern
BEGIN:DAYLIGHT
DTSTART:20170312T030000
TZNAME:EDT
TZOFFSETFROM:-0500
TZOFFSETTO:-0400
END:DAYLIGHT
END:VTIMEZONE
END:VCALENDAR
