BEGIN:VCALENDAR
VERSION:2.0
PRODID:-//Plone.org//NONSGML plone.app.event//EN
X-WR-TIMEZONE:US/Eastern
BEGIN:VEVENT
SUMMARY:Story Time
DTSTART;TZID=US/Eastern:20151013T103000
DTEND;TZID=US/Eastern:20151013T113000
DTSTAMP:20260420T162536Z
UID:ba6135e49a5144edb991250b39aed197@saas_stack_varnish:6080
RRULE:FREQ=DAILY;COUNT=7
RDATE;TZID=US/Eastern:20151027T000000
EXDATE;TZID=US/Eastern:20151014T000000,20151015T000000,20151016T000000,201
 51017T000000,20151018T000000,20151019T000000
CONTACT:Arleen Brace\, 810-688-2282\, northbranchlibrary@northbranchlibrar
 y.net
CREATED:20150914T152751Z
DESCRIPTION:Stories\, Songs\, Crafts and Games for preschoolers (3-5 years
  of age).  Call the library for info or to sign up.
LAST-MODIFIED:20150914T152757Z
LOCATION:NBTL Meeting Room
URL:https://northbranch.ploud.net/news-events/lib-cal/story-time-1
END:VEVENT
BEGIN:VTIMEZONE
TZID:US/Eastern
X-LIC-LOCATION:US/Eastern
BEGIN:DAYLIGHT
DTSTART:20150308T030000
TZNAME:EDT
TZOFFSETFROM:-0500
TZOFFSETTO:-0400
END:DAYLIGHT
END:VTIMEZONE
END:VCALENDAR
