BEGIN:VCALENDAR
VERSION:2.0
PRODID:-//Plone.org//NONSGML plone.app.event//EN
X-WR-TIMEZONE:US/Eastern
BEGIN:VEVENT
SUMMARY:Story Time
DTSTART;TZID=US/Eastern:20181025T103000
DTEND;TZID=US/Eastern:20181025T113000
DTSTAMP:20260420T154823Z
UID:1843d7f6ce1e4f499bfac0a92a718d1d@saas_stack_varnish:6080
CONTACT:Arleen Brace\, 810-688-2282\, northbranchlibrary@northbranchlibrar
 y.net
CREATED:20180830T172242Z
DESCRIPTION:Stories\, games\, songs and crafts for preschoolers with Ms. A
 rleen
LAST-MODIFIED:20180928T155514Z
LOCATION:NBTL Meeting Room
URL:https://northbranch.ploud.net/news-events/lib-cal/story-time-10/2018-1
 0-25
END:VEVENT
BEGIN:VTIMEZONE
TZID:US/Eastern
X-LIC-LOCATION:US/Eastern
BEGIN:DAYLIGHT
DTSTART:20180311T030000
TZNAME:EDT
TZOFFSETFROM:-0500
TZOFFSETTO:-0400
END:DAYLIGHT
END:VTIMEZONE
END:VCALENDAR
