BEGIN:VCALENDAR
VERSION:2.0
PRODID:-//Plone.org//NONSGML plone.app.event//EN
X-WR-TIMEZONE:US/Eastern
BEGIN:VEVENT
SUMMARY:Story Time
DTSTART;TZID=US/Eastern:20190307T103000
DTEND;TZID=US/Eastern:20190307T113000
DTSTAMP:20260420T141156Z
UID:cff521dd394a4ff08b8b438a724a0a0b@saas_stack_varnish:6080
ATTENDEE;CN="Preschoolers and caregivers.";ROLE=REQ-PARTICIPANT:Preschoole
 rs and caregivers.
CONTACT:Arleen Brace\, 8106882282\, northbranchlibrary@northbranchlibrary.
 net
CREATED:20190205T162311Z
DESCRIPTION:Story Time with Ms. Arleen\nGames\, songs\, stories and crafts
  with Ms. Arleen.  \nThis program is for preschoolers.
LAST-MODIFIED:20190205T162315Z
LOCATION:NBTL Meeting Room
URL:https://northbranch.ploud.net/news-events/lib-cal/story-time-11/2019-0
 3-07
END:VEVENT
BEGIN:VTIMEZONE
TZID:US/Eastern
X-LIC-LOCATION:US/Eastern
BEGIN:STANDARD
DTSTART:20181104T010000
TZNAME:EST
TZOFFSETFROM:-0400
TZOFFSETTO:-0500
END:STANDARD
END:VTIMEZONE
END:VCALENDAR
