BEGIN:VCALENDAR
VERSION:2.0
PRODID:-//Plone.org//NONSGML plone.app.event//EN
X-WR-TIMEZONE:US/Eastern
BEGIN:VEVENT
SUMMARY:Story Time
DTSTART;TZID=US/Eastern:20190418T103000
DTEND;TZID=US/Eastern:20190418T113000
DTSTAMP:20260420T124929Z
UID:cff521dd394a4ff08b8b438a724a0a0b@saas_stack_varnish:6080
ATTENDEE;CN="Preschoolers and caregivers.";ROLE=REQ-PARTICIPANT:Preschoole
 rs and caregivers.
CONTACT:Arleen Brace\, 8106882282\, northbranchlibrary@northbranchlibrary.
 net
CREATED:20190205T162311Z
DESCRIPTION:Story Time with Ms. Arleen\nGames\, songs\, stories and crafts
  with Ms. Arleen.  \nThis program is for preschoolers.
LAST-MODIFIED:20190205T162315Z
LOCATION:NBTL Meeting Room
URL:https://northbranch.ploud.net/news-events/lib-cal/story-time-11/2019-0
 4-18
END:VEVENT
BEGIN:VTIMEZONE
TZID:US/Eastern
X-LIC-LOCATION:US/Eastern
BEGIN:DAYLIGHT
DTSTART:20190310T030000
TZNAME:EDT
TZOFFSETFROM:-0500
TZOFFSETTO:-0400
END:DAYLIGHT
END:VTIMEZONE
END:VCALENDAR
