BEGIN:VCALENDAR
VERSION:2.0
PRODID:-//Plone.org//NONSGML plone.app.event//EN
X-WR-TIMEZONE:US/Eastern
BEGIN:VEVENT
SUMMARY:Story Time
DTSTART;TZID=US/Eastern:20190207T103000
DTEND;TZID=US/Eastern:20190207T113000
DTSTAMP:20260420T141023Z
UID:cff521dd394a4ff08b8b438a724a0a0b@saas_stack_varnish:6080
RRULE:FREQ=WEEKLY;COUNT=20;BYDAY=TH
EXDATE;TZID=US/Eastern:20190214T000000,20190228T000000,20190314T000000,201
 90328T000000,20190411T000000,20190425T000000,20190509T000000,20190523T0000
 00,20190606T000000,20190613T000000,20190620T000000
ATTENDEE;CN="Preschoolers and caregivers.";ROLE=REQ-PARTICIPANT:Preschoole
 rs and caregivers.
CONTACT:Arleen Brace\, 8106882282\, northbranchlibrary@northbranchlibrary.
 net
CREATED:20190205T162311Z
DESCRIPTION:Story Time with Ms. Arleen\nGames\, songs\, stories and crafts
  with Ms. Arleen.  \nThis program is for preschoolers.
LAST-MODIFIED:20190205T162315Z
LOCATION:NBTL Meeting Room
URL:https://northbranch.ploud.net/news-events/lib-cal/story-time-11
END:VEVENT
BEGIN:VTIMEZONE
TZID:US/Eastern
X-LIC-LOCATION:US/Eastern
BEGIN:STANDARD
DTSTART:20181104T010000
TZNAME:EST
TZOFFSETFROM:-0400
TZOFFSETTO:-0500
END:STANDARD
END:VTIMEZONE
END:VCALENDAR
