BEGIN:VCALENDAR
VERSION:2.0
PRODID:-//Plone.org//NONSGML plone.app.event//EN
X-WR-TIMEZONE:US/Eastern
BEGIN:VEVENT
SUMMARY:Story Time
DTSTART;TZID=US/Eastern:20200402T103000
DTEND;TZID=US/Eastern:20200402T113000
DTSTAMP:20260420T093552Z
UID:8f5693d1e41e4df4a7f3f762b3c937a7@saas_stack_varnish:6080
ATTENDEE;CN="Preschoolers and their caregivers";ROLE=REQ-PARTICIPANT:Presc
 hoolers and their caregivers
CONTACT:Arleen Brace\, 810-588-2282
CREATED:20200210T175417Z
DESCRIPTION:Games\, Songs\, Stories and Crafts with Ms. Arleen for prescho
 olers.
LAST-MODIFIED:20200210T175421Z
LOCATION:NBTL Meeting Room
URL:https://northbranch.ploud.net/news-events/lib-cal/story-time-12/2020-0
 4-02
END:VEVENT
BEGIN:VTIMEZONE
TZID:US/Eastern
X-LIC-LOCATION:US/Eastern
BEGIN:DAYLIGHT
DTSTART:20200308T030000
TZNAME:EDT
TZOFFSETFROM:-0500
TZOFFSETTO:-0400
END:DAYLIGHT
END:VTIMEZONE
END:VCALENDAR
