BEGIN:VCALENDAR
VERSION:2.0
PRODID:-//Plone.org//NONSGML plone.app.event//EN
X-WR-TIMEZONE:US/Eastern
BEGIN:VEVENT
SUMMARY:STORY TIME
DTSTART;TZID=US/Eastern:20230124T103000
DTEND;TZID=US/Eastern:20230124T113000
DTSTAMP:20260419T232610Z
UID:5cf6d41e938a406db1ae58275728badd@saas_stack_varnish:6080
ATTENDEE;CN="Preschoolers and caregivers";ROLE=REQ-PARTICIPANT:Preschooler
 s and caregivers
CREATED:20221214T172513Z
DESCRIPTION:Story time with Mrs. Thomas.  Stories and craft activities for
  preschoolers.
LAST-MODIFIED:20221214T172518Z
URL:https://northbranch.ploud.net/news-events/lib-cal/story-time-14/2023-0
 1-24
END:VEVENT
BEGIN:VTIMEZONE
TZID:US/Eastern
X-LIC-LOCATION:US/Eastern
BEGIN:STANDARD
DTSTART:20221106T010000
TZNAME:EST
TZOFFSETFROM:-0400
TZOFFSETTO:-0500
END:STANDARD
END:VTIMEZONE
END:VCALENDAR
