BEGIN:VCALENDAR
VERSION:2.0
PRODID:-//Plone.org//NONSGML plone.app.event//EN
X-WR-TIMEZONE:US/Eastern
BEGIN:VEVENT
SUMMARY:Story Time
DTSTART;TZID=US/Eastern:20230516T103000
DTEND;TZID=US/Eastern:20230516T113000
DTSTAMP:20260419T232636Z
UID:001785d43f0a470c975dd0709501871b@saas_stack_varnish:6080
ATTENDEE;CN="Preschoolers and caregivers";ROLE=REQ-PARTICIPANT:Preschooler
 s and caregivers
CONTACT:Kelli Lovasz\, 810-688-2282\, northbranchlibrary@northbranchlibrar
 y.net
CREATED:20230412T184944Z
DESCRIPTION:Story Time with Mrs. Thomas for preschoolers and caregivers.  
 Songs\, stories and activities.
LAST-MODIFIED:20230412T184951Z
URL:https://northbranch.ploud.net/news-events/lib-cal/story-time-15/2023-0
 5-16
END:VEVENT
BEGIN:VTIMEZONE
TZID:US/Eastern
X-LIC-LOCATION:US/Eastern
BEGIN:DAYLIGHT
DTSTART:20230312T030000
TZNAME:EDT
TZOFFSETFROM:-0500
TZOFFSETTO:-0400
END:DAYLIGHT
END:VTIMEZONE
END:VCALENDAR
