BEGIN:VCALENDAR
VERSION:2.0
PRODID:-//Plone.org//NONSGML plone.app.event//EN
X-WR-TIMEZONE:US/Eastern
BEGIN:VEVENT
SUMMARY:STORY TIME
DTSTART;TZID=US/Eastern:20230926T103000
DTEND;TZID=US/Eastern:20230926T113000
DTSTAMP:20260419T215953Z
UID:4e49b4f577ef486780b0dd11607b656d@saas_stack_varnish:6080
ATTENDEE;CN="Preschoolers and their caregivers";ROLE=REQ-PARTICIPANT:Presc
 hoolers and their caregivers
CONTACT:Kelli Lovasz\, 810-688-2282\, northbranchlibrary@northbranchlibrar
 y.net
CREATED:20230913T171343Z
DESCRIPTION:Games\, stories\, activities and crafts for preschoolers and t
 heir caregivers with Mrs. Thomas
LAST-MODIFIED:20230913T171352Z
LOCATION:NBTL
URL:https://northbranch.ploud.net/news-events/lib-cal/story-time-16
END:VEVENT
BEGIN:VTIMEZONE
TZID:US/Eastern
X-LIC-LOCATION:US/Eastern
BEGIN:DAYLIGHT
DTSTART:20230312T030000
TZNAME:EDT
TZOFFSETFROM:-0500
TZOFFSETTO:-0400
END:DAYLIGHT
END:VTIMEZONE
END:VCALENDAR
