BEGIN:VCALENDAR
VERSION:2.0
PRODID:-//Plone.org//NONSGML plone.app.event//EN
X-WR-TIMEZONE:US/Eastern
BEGIN:VEVENT
SUMMARY:STORY TIME
DTSTART;TZID=US/Eastern:20240123T103000
DTEND;TZID=US/Eastern:20240123T113000
DTSTAMP:20260419T214638Z
UID:1571598ac2e249968ecd4006c10fa7c7@saas_stack_varnish:6080
RRULE:FREQ=WEEKLY;COUNT=7
EXDATE;TZID=US/Eastern:20240130T000000,20240213T000000,20240227T000000
CREATED:20240119T193431Z
LAST-MODIFIED:20240119T193530Z
URL:https://northbranch.ploud.net/news-events/lib-cal/story-time-17
END:VEVENT
BEGIN:VTIMEZONE
TZID:US/Eastern
X-LIC-LOCATION:US/Eastern
BEGIN:STANDARD
DTSTART:20231105T010000
TZNAME:EST
TZOFFSETFROM:-0400
TZOFFSETTO:-0500
END:STANDARD
END:VTIMEZONE
END:VCALENDAR
