BEGIN:VCALENDAR
VERSION:2.0
PRODID:-//Plone.org//NONSGML plone.app.event//EN
X-WR-TIMEZONE:US/Eastern
BEGIN:VEVENT
SUMMARY:STORY TIME
DTSTART;TZID=US/Eastern:20240416T103000
DTEND;TZID=US/Eastern:20240416T113000
DTSTAMP:20260420T012949Z
UID:47b49e49b83a46018e520fbba5370644@saas_stack_varnish:6080
ATTENDEE;CN="3-5 years of age and their caregivers";ROLE=REQ-PARTICIPANT:3
 -5 years of age and their caregivers
CONTACT:Kelli Lovasz\, 810-688-2282\, northbranchlibrary@northbranchlibrar
 y.net
CREATED:20240404T223850Z
DESCRIPTION:stories\, games\, activities and crafts with Mrs. Thomas for 3
 -5 year olds
LAST-MODIFIED:20240404T223857Z
URL:https://northbranch.ploud.net/news-events/lib-cal/story-time-18
END:VEVENT
BEGIN:VTIMEZONE
TZID:US/Eastern
X-LIC-LOCATION:US/Eastern
BEGIN:DAYLIGHT
DTSTART:20240310T030000
TZNAME:EDT
TZOFFSETFROM:-0500
TZOFFSETTO:-0400
END:DAYLIGHT
END:VTIMEZONE
END:VCALENDAR
