BEGIN:VCALENDAR
VERSION:2.0
PRODID:-//Plone.org//NONSGML plone.app.event//EN
X-WR-TIMEZONE:US/Eastern
BEGIN:VEVENT
SUMMARY:STORY TIME
DTSTART;TZID=US/Eastern:20240430T103000
DTEND;TZID=US/Eastern:20240430T113000
DTSTAMP:20260420T011738Z
UID:1fd9862645e04536ba75847322ac35d5@saas_stack_varnish:6080
CREATED:20240404T225244Z
DESCRIPTION:Songs\, stories\, activities and crafts with Mrs. Thomas
LAST-MODIFIED:20240404T225252Z
URL:https://northbranch.ploud.net/news-events/lib-cal/story-time-19
END:VEVENT
BEGIN:VTIMEZONE
TZID:US/Eastern
X-LIC-LOCATION:US/Eastern
BEGIN:DAYLIGHT
DTSTART:20240310T030000
TZNAME:EDT
TZOFFSETFROM:-0500
TZOFFSETTO:-0400
END:DAYLIGHT
END:VTIMEZONE
END:VCALENDAR
