BEGIN:VCALENDAR
VERSION:2.0
PRODID:-//Plone.org//NONSGML plone.app.event//EN
X-WR-TIMEZONE:US/Eastern
BEGIN:VEVENT
SUMMARY:Story Time
DTSTART;TZID=US/Eastern:20151110T103000
DTEND;TZID=US/Eastern:20151110T113000
DTSTAMP:20260420T162501Z
UID:3c49e7bb67f546709245d21e12ef6f32@saas_stack_varnish:6080
ATTENDEE;CN="Preschoolers 3-5 years old.";ROLE=REQ-PARTICIPANT:Preschooler
 s 3-5 years old.
CONTACT:Arleen Brace\, 810-688-2282\, northbranchlibrary@northbranchlibrar
 y.net
CREATED:20151029T151310Z
DESCRIPTION:Songs\, crafts\, games and stories for preschoolers.   A fun\,
  interactive program for preschoolers.  No pre-registration is required.  
LAST-MODIFIED:20151029T151340Z
LOCATION:NBTL Meeting Room
URL:https://northbranch.ploud.net/news-events/lib-cal/story-time-2
END:VEVENT
BEGIN:VTIMEZONE
TZID:US/Eastern
X-LIC-LOCATION:US/Eastern
BEGIN:STANDARD
DTSTART:20151101T010000
TZNAME:EST
TZOFFSETFROM:-0400
TZOFFSETTO:-0500
END:STANDARD
END:VTIMEZONE
END:VCALENDAR
