BEGIN:VCALENDAR
VERSION:2.0
PRODID:-//Plone.org//NONSGML plone.app.event//EN
X-WR-TIMEZONE:US/Eastern
BEGIN:VEVENT
SUMMARY:Story Time
DTSTART;TZID=US/Eastern:20160119T103000
DTEND;TZID=US/Eastern:20160119T113000
DTSTAMP:20260420T165053Z
UID:3bf01ce0633a4737b7d0ec2b454e9046@saas_stack_varnish:6080
CONTACT:Arleen Brace\, 810-688-2282\, northbranchlibrary@northbranchlibrar
 y.net
CREATED:20151112T165143Z
DESCRIPTION:Songs\, crafts and stories for preschoolers.  This is a drop i
 n program.  No need to register.
LAST-MODIFIED:20151112T165155Z
LOCATION:NBTL Meeting Room
URL:https://northbranch.ploud.net/news-events/lib-cal/story-time-4
END:VEVENT
BEGIN:VTIMEZONE
TZID:US/Eastern
X-LIC-LOCATION:US/Eastern
BEGIN:STANDARD
DTSTART:20151101T010000
TZNAME:EST
TZOFFSETFROM:-0400
TZOFFSETTO:-0500
END:STANDARD
END:VTIMEZONE
END:VCALENDAR
