BEGIN:VCALENDAR
VERSION:2.0
PRODID:-//Plone.org//NONSGML plone.app.event//EN
X-WR-TIMEZONE:US/Eastern
BEGIN:VEVENT
SUMMARY:Story Time
DTSTART;TZID=US/Eastern:20160209T103000
DTEND;TZID=US/Eastern:20160209T113000
DTSTAMP:20260420T194541Z
UID:9ca3f4661898463eb12e11c361960c53@saas_stack_varnish:6080
ATTENDEE;CN="preschoolers and caregivers";ROLE=REQ-PARTICIPANT:preschooler
 s and caregivers
CONTACT:Arleen Brace\, 810-688-2282\, northbranchlibrary@northbranchlibrar
 y.net
CREATED:20151229T174631Z
DESCRIPTION:Story time with Mrs. Brace.  Games\, crafts\, songs and storie
 s for preschoolers.
LAST-MODIFIED:20151229T174636Z
LOCATION:NBTL Meeting Room
URL:https://northbranch.ploud.net/news-events/lib-cal/story-time-5
END:VEVENT
BEGIN:VTIMEZONE
TZID:US/Eastern
X-LIC-LOCATION:US/Eastern
BEGIN:STANDARD
DTSTART:20151101T010000
TZNAME:EST
TZOFFSETFROM:-0400
TZOFFSETTO:-0500
END:STANDARD
END:VTIMEZONE
END:VCALENDAR
