BEGIN:VCALENDAR
VERSION:2.0
PRODID:-//Plone.org//NONSGML plone.app.event//EN
X-WR-TIMEZONE:US/Eastern
BEGIN:VEVENT
SUMMARY:Story Time
DTSTART;TZID=US/Eastern:20160531T103000
DTEND;TZID=US/Eastern:20160531T113000
DTSTAMP:20260420T230222Z
UID:8dd5d14519b4427a8b68ee10671efdaa@saas_stack_varnish:6080
CREATED:20160523T195539Z
DESCRIPTION:Story Time for preschoolers with Ms. Arleen.  Songs\, games an
 d crafts.
LAST-MODIFIED:20160523T195543Z
URL:https://northbranch.ploud.net/news-events/lib-cal/story-time-8
END:VEVENT
BEGIN:VTIMEZONE
TZID:US/Eastern
X-LIC-LOCATION:US/Eastern
BEGIN:DAYLIGHT
DTSTART:20160313T030000
TZNAME:EDT
TZOFFSETFROM:-0500
TZOFFSETTO:-0400
END:DAYLIGHT
END:VTIMEZONE
END:VCALENDAR
