BEGIN:VCALENDAR
VERSION:2.0
PRODID:-//Plone.org//NONSGML plone.app.event//EN
X-WR-TIMEZONE:US/Eastern
BEGIN:VEVENT
SUMMARY:Story Time
DTSTART;TZID=US/Eastern:20161027T103000
DTEND;TZID=US/Eastern:20161027T113000
DTSTAMP:20260420T220946Z
UID:15f74fb338524d6c997e563cc3333a8d@saas_stack_varnish:6080
ATTENDEE;CN=Preschoolers;ROLE=REQ-PARTICIPANT:Preschoolers
CONTACT:Arleen Brace\, 810-688-2282\, northbranchlibrary@northbranchlibrar
 y.net
CREATED:20161025T143613Z
DESCRIPTION:Story Time with Ms. Arleen.  Games\, songs\, stories and craft
 s for preschoolers.\nThis is a drop in program and all are welcome.
LAST-MODIFIED:20161025T143618Z
LOCATION:NBTL Meeting Room
URL:https://northbranch.ploud.net/news-events/lib-cal/story-time-9
END:VEVENT
BEGIN:VTIMEZONE
TZID:US/Eastern
X-LIC-LOCATION:US/Eastern
BEGIN:DAYLIGHT
DTSTART:20160313T030000
TZNAME:EDT
TZOFFSETFROM:-0500
TZOFFSETTO:-0400
END:DAYLIGHT
END:VTIMEZONE
END:VCALENDAR
