BEGIN:VCALENDAR
VERSION:2.0
PRODID:-//Plone.org//NONSGML plone.app.event//EN
X-WR-TIMEZONE:US/Eastern
BEGIN:VEVENT
SUMMARY:Story Time with Mrs. Thomas
DTSTART;TZID=US/Eastern:20221025T103000
DTEND;TZID=US/Eastern:20221025T113000
DTSTAMP:20260420T010413Z
UID:97165624deea4a8fa9dbec6295d9e9d7@saas_stack_varnish:6080
ATTENDEE;CN="Preschoolers and caregivers";ROLE=REQ-PARTICIPANT:Preschooler
 s and caregivers
CONTACT:Kelli Lovasz\, 810-688-2282\, northbranchlibary@northbranchlibrary
 .net
CREATED:20220930T160326Z
DESCRIPTION:Story Time with Mrs. Thomas for preschoolers.  Mrs. Thomas wil
 l share stories\, activities and songs.
LAST-MODIFIED:20220930T160331Z
LOCATION:NBTL Meeting Room
URL:https://northbranch.ploud.net/news-events/lib-cal/story-time-with-mrs-
 thomas/2022-10-25
END:VEVENT
BEGIN:VTIMEZONE
TZID:US/Eastern
X-LIC-LOCATION:US/Eastern
BEGIN:DAYLIGHT
DTSTART:20220313T030000
TZNAME:EDT
TZOFFSETFROM:-0500
TZOFFSETTO:-0400
END:DAYLIGHT
END:VTIMEZONE
END:VCALENDAR
