BEGIN:VCALENDAR
VERSION:2.0
PRODID:-//Plone.org//NONSGML plone.app.event//EN
X-WR-TIMEZONE:US/Eastern
BEGIN:VEVENT
SUMMARY:Story Time with Mrs. Cory
DTSTART;TZID=US/Eastern:20130528T100000
DTEND;TZID=US/Eastern:20130528T110000
DTSTAMP:20260420T082102Z
UID:d7b8b63d92a2cc8ebb3ec7d694341c98@saas_stack_varnish:6080
CONTACT:Kelli Lovasz\, 810-688-2282\, northbranchlibrary@northbranchlibrar
 y.net
CREATED:20130521T174419Z
DESCRIPTION:Story time for preschoolers 3-5 years of age.  Mrs. Cory will 
 read a story\, do a craft and play games.
LAST-MODIFIED:20130521T174454Z
LOCATION:NBTL Meeting Room
URL:https://northbranch.ploud.net/news-events/lib-cal/story-time-with-mrs.
 -cory-10.ics
END:VEVENT
BEGIN:VTIMEZONE
TZID:US/Eastern
X-LIC-LOCATION:US/Eastern
BEGIN:DAYLIGHT
DTSTART:20130310T030000
TZNAME:EDT
TZOFFSETFROM:-0500
TZOFFSETTO:-0400
END:DAYLIGHT
END:VTIMEZONE
END:VCALENDAR
