BEGIN:VCALENDAR
VERSION:2.0
PRODID:-//Plone.org//NONSGML plone.app.event//EN
X-WR-TIMEZONE:US/Eastern
BEGIN:VEVENT
SUMMARY:Story Time with Ms. Arleen
DTSTART;TZID=US/Eastern:20180405T103000
DTEND;TZID=US/Eastern:20180405T113000
DTSTAMP:20260420T205404Z
UID:4cc5b75c65cf4db0a8bb66bddbdd21f0@saas_stack_varnish:6080
ATTENDEE;CN="Preschoolers and caregivers";ROLE=REQ-PARTICIPANT:Preschooler
 s and caregivers
CONTACT:Ms. Arleen\, 810-688-2282\, northbranchlibrary@northbranchlibrary.
 net
CREATED:20180323T135221Z
DESCRIPTION:Story Time for preschoolers.  Games\, crafts\, songs and stori
 es.  All are welcome. Call Ms. Arleen for more information.
LAST-MODIFIED:20180323T135227Z
LOCATION:NBTL Meeting Room
URL:https://northbranch.ploud.net/news-events/lib-cal/story-time-with-ms-a
 rleen-2
END:VEVENT
BEGIN:VTIMEZONE
TZID:US/Eastern
X-LIC-LOCATION:US/Eastern
BEGIN:DAYLIGHT
DTSTART:20180311T030000
TZNAME:EDT
TZOFFSETFROM:-0500
TZOFFSETTO:-0400
END:DAYLIGHT
END:VTIMEZONE
END:VCALENDAR
