BEGIN:VCALENDAR
VERSION:2.0
PRODID:-//Plone.org//NONSGML plone.app.event//EN
X-WR-TIMEZONE:US/Eastern
BEGIN:VEVENT
SUMMARY:Story Time with Ms. Arleen
DTSTART;TZID=US/Eastern:20180323T103000
DTEND;TZID=US/Eastern:20180323T113000
DTSTAMP:20260420T173125Z
UID:a229987f564f46f1b5c3469cc719630b@saas_stack_varnish:6080
CONTACT:Ms. Arleen\, 810-688-2282\, northbranchlibrary@northbranchlibrary.
 net
CREATED:20180323T140518Z
DESCRIPTION:Story Time for preschoolers.  Games\, crafts\, songs and stori
 es.  All are welcome. Call Ms. Arleen for more information.
LAST-MODIFIED:20180323T140522Z
LOCATION:NBTL Meeting Room
URL:https://northbranch.ploud.net/news-events/lib-cal/story-time-with-ms-a
 rleen-3
END:VEVENT
BEGIN:VTIMEZONE
TZID:US/Eastern
X-LIC-LOCATION:US/Eastern
BEGIN:DAYLIGHT
DTSTART:20180311T030000
TZNAME:EDT
TZOFFSETFROM:-0500
TZOFFSETTO:-0400
END:DAYLIGHT
END:VTIMEZONE
END:VCALENDAR
