BEGIN:VCALENDAR
VERSION:2.0
PRODID:-//Plone.org//NONSGML plone.app.event//EN
X-WR-TIMEZONE:US/Eastern
BEGIN:VEVENT
SUMMARY:Story Time with Ms. Arleen
DTSTART;TZID=US/Eastern:20171207T103000
DTEND;TZID=US/Eastern:20171207T113000
DTSTAMP:20260420T191926Z
UID:9e4894644a444e2888e1404f7a7350b0@saas_stack_varnish:6080
CONTACT:Arleen Brace\, 810-688-2282\, northbranchlibrary@northbranchlibrar
 y.net
CREATED:20170928T154049Z
DESCRIPTION:Stories\, songs\, crafts and games for preschoolers
LAST-MODIFIED:20170928T154101Z
LOCATION:NBTL Meeting Room
URL:https://northbranch.ploud.net/news-events/lib-cal/story-time-with-ms-a
 rleen/2017-12-07
END:VEVENT
BEGIN:VTIMEZONE
TZID:US/Eastern
X-LIC-LOCATION:US/Eastern
BEGIN:STANDARD
DTSTART:20171105T010000
TZNAME:EST
TZOFFSETFROM:-0400
TZOFFSETTO:-0500
END:STANDARD
END:VTIMEZONE
END:VCALENDAR
