BEGIN:VCALENDAR
VERSION:2.0
PRODID:-//Plone.org//NONSGML plone.app.event//EN
X-WR-TIMEZONE:US/Eastern
BEGIN:VEVENT
SUMMARY:Story Time
DTSTART;TZID=US/Eastern:20150922T103000
DTEND;TZID=US/Eastern:20150922T113000
DTSTAMP:20260420T162421Z
UID:95bb3d507e054a41a8ae26cde83b2753@saas_stack_varnish:6080
ATTENDEE;CN="Preschoolers (3-5 years of age) and care-givers.";ROLE=REQ-PA
 RTICIPANT:Preschoolers (3-5 years of age) and care-givers.
CONTACT:Arleen Brace\, 810-688-2282\, northbranchlibrary@northbranchlibrar
 y.net
CREATED:20150914T151840Z
DESCRIPTION:Crafts\, Songs\, Stories and Games for Preschoolers\, 3-5 year
 s of age.  Ask at the front desk for more info or to sign up.
LAST-MODIFIED:20150914T151851Z
LOCATION:NBTL Meeting Room
URL:https://northbranch.ploud.net/news-events/lib-cal/story-time
END:VEVENT
BEGIN:VTIMEZONE
TZID:US/Eastern
X-LIC-LOCATION:US/Eastern
BEGIN:DAYLIGHT
DTSTART:20150308T030000
TZNAME:EDT
TZOFFSETFROM:-0500
TZOFFSETTO:-0400
END:DAYLIGHT
END:VTIMEZONE
END:VCALENDAR
