BEGIN:VCALENDAR
VERSION:2.0
PRODID:-//Plone.org//NONSGML plone.app.event//EN
X-WR-TIMEZONE:US/Eastern
BEGIN:VEVENT
SUMMARY:Story Walk
DTSTART;TZID=US/Eastern:20230718T110000
DTEND;TZID=US/Eastern:20230722T130000
DTSTAMP:20260419T214544Z
UID:2b78301e322643169be27f92b0aa1603@saas_stack_varnish:6080
CREATED:20230616T201830Z
DESCRIPTION:Enjoy an outside story walk at the library
LAST-MODIFIED:20230616T201838Z
URL:https://northbranch.ploud.net/news-events/lib-cal/story-walk
END:VEVENT
BEGIN:VTIMEZONE
TZID:US/Eastern
X-LIC-LOCATION:US/Eastern
BEGIN:DAYLIGHT
DTSTART:20230312T030000
TZNAME:EDT
TZOFFSETFROM:-0500
TZOFFSETTO:-0400
END:DAYLIGHT
END:VTIMEZONE
END:VCALENDAR
