BEGIN:VCALENDAR
VERSION:2.0
PRODID:-//Plone.org//NONSGML plone.app.event//EN
X-WR-TIMEZONE:US/Eastern
BEGIN:VEVENT
SUMMARY:Storytime
DTSTART;TZID=US/Eastern:20201006T103000
DTEND;TZID=US/Eastern:20201006T111500
DTSTAMP:20260420T073225Z
UID:3fefc2506f7546e0bf79c793a773bc51@saas_stack_varnish:6080
CREATED:20200928T154047Z
DESCRIPTION:Storytime kits will be available to take home for preschoolers
 \, 3yrs-5yrs.  Weather permitting Miss Arleen will be reading a story outs
 ide on the back steps of the library.
LAST-MODIFIED:20200928T154052Z
URL:https://northbranch.ploud.net/news-events/lib-cal/storytime-1
END:VEVENT
BEGIN:VTIMEZONE
TZID:US/Eastern
X-LIC-LOCATION:US/Eastern
BEGIN:DAYLIGHT
DTSTART:20200308T030000
TZNAME:EDT
TZOFFSETFROM:-0500
TZOFFSETTO:-0400
END:DAYLIGHT
END:VTIMEZONE
END:VCALENDAR
