BEGIN:VCALENDAR
VERSION:2.0
PRODID:-//Plone.org//NONSGML plone.app.event//EN
X-WR-TIMEZONE:US/Eastern
BEGIN:VEVENT
SUMMARY:Storytime
DTSTART;TZID=US/Eastern:20250311T103000
DTEND;TZID=US/Eastern:20250311T113000
DTSTAMP:20260419T201434Z
UID:9eea14226c8a4a6699f1a6fc2714670b@saas_stack_varnish:6080
ATTENDEE;CN="FOR CHILDREN AGES 3-5 AND THEIR GUARDIANS";ROLE=REQ-PARTICIPA
 NT:FOR CHILDREN AGES 3-5 AND THEIR GUARDIANS
CONTACT:810-688-2282\, northbranchlibrary@northbranchlibrary.net
CREATED:20250227T194147Z
DESCRIPTION:JOIN US FOR STORTYIME FEATURING FUN SONGS AND CHANTS!
LAST-MODIFIED:20250227T194213Z
LOCATION:North Branch Township Library
URL:https://northbranch.ploud.net/news-events/lib-cal/storytime-11
END:VEVENT
BEGIN:VTIMEZONE
TZID:US/Eastern
X-LIC-LOCATION:US/Eastern
BEGIN:DAYLIGHT
DTSTART:20250309T030000
TZNAME:EDT
TZOFFSETFROM:-0500
TZOFFSETTO:-0400
END:DAYLIGHT
END:VTIMEZONE
END:VCALENDAR
