BEGIN:VCALENDAR
VERSION:2.0
PRODID:-//Plone.org//NONSGML plone.app.event//EN
X-WR-TIMEZONE:US/Eastern
BEGIN:VEVENT
SUMMARY:Storytime
DTSTART;TZID=US/Eastern:20250422T103000
DTEND;TZID=US/Eastern:20250422T113000
DTSTAMP:20260419T183845Z
UID:0ec45d225d6a4dc992d70161ddb482e9@saas_stack_varnish:6080
ATTENDEE;CN="For children ages 3-5 and their guardians";ROLE=REQ-PARTICIPA
 NT:For children ages 3-5 and their guardians
CONTACT:810-688-2282\, northbranchlibrary@northbranchlibrary.net
CREATED:20250408T203329Z
DESCRIPTION:Join us for a storytime with Paul the Builder as he teaches al
 l about building and tools!
LAST-MODIFIED:20250408T203336Z
LOCATION:North Branch Township Library
URL:https://northbranch.ploud.net/news-events/lib-cal/storytime-13
END:VEVENT
BEGIN:VTIMEZONE
TZID:US/Eastern
X-LIC-LOCATION:US/Eastern
BEGIN:DAYLIGHT
DTSTART:20250309T030000
TZNAME:EDT
TZOFFSETFROM:-0500
TZOFFSETTO:-0400
END:DAYLIGHT
END:VTIMEZONE
END:VCALENDAR
