BEGIN:VCALENDAR
VERSION:2.0
PRODID:-//Plone.org//NONSGML plone.app.event//EN
X-WR-TIMEZONE:US/Eastern
BEGIN:VEVENT
SUMMARY:Storytime
DTSTART;TZID=US/Eastern:20250520T103000
DTEND;TZID=US/Eastern:20250520T113000
DTSTAMP:20260419T185242Z
UID:dfacd0be1c9f40768ad975d402f89a0c@saas_stack_varnish:6080
ATTENDEE;CN="For children ages 3-5 and their guardians";ROLE=REQ-PARTICIPA
 NT:For children ages 3-5 and their guardians
CONTACT:810-688-2282\, northbranchlibrary@northbranchlibrary.net
CREATED:20250506T183202Z
DESCRIPTION:Join us for storytime all about dragons!
LAST-MODIFIED:20250506T183210Z
LOCATION:North Branch Township Library
URL:https://northbranch.ploud.net/news-events/lib-cal/storytime-15
END:VEVENT
BEGIN:VTIMEZONE
TZID:US/Eastern
X-LIC-LOCATION:US/Eastern
BEGIN:DAYLIGHT
DTSTART:20250309T030000
TZNAME:EDT
TZOFFSETFROM:-0500
TZOFFSETTO:-0400
END:DAYLIGHT
END:VTIMEZONE
END:VCALENDAR
