BEGIN:VCALENDAR
VERSION:2.0
PRODID:-//Plone.org//NONSGML plone.app.event//EN
X-WR-TIMEZONE:US/Eastern
BEGIN:VEVENT
SUMMARY:Storytime
DTSTART;TZID=US/Eastern:20250603T103000
DTEND;TZID=US/Eastern:20250603T113000
DTSTAMP:20260419T183845Z
UID:8184d17389474eb988347c880c361b77@saas_stack_varnish:6080
ATTENDEE;CN="Children ages 3-5 and their guardians.";ROLE=REQ-PARTICIPANT:
 Children ages 3-5 and their guardians.
CONTACT:810-688-2282\, northbranchlibrary@northbranchlibrary.net
CREATED:20250529T172217Z
DESCRIPTION:Join us to learn all about summer safety with some first respo
 nders and see a real ambulance!
LAST-MODIFIED:20250529T172225Z
LOCATION:North Branch Township Library
URL:https://northbranch.ploud.net/news-events/lib-cal/storytime-16
END:VEVENT
BEGIN:VTIMEZONE
TZID:US/Eastern
X-LIC-LOCATION:US/Eastern
BEGIN:DAYLIGHT
DTSTART:20250309T030000
TZNAME:EDT
TZOFFSETFROM:-0500
TZOFFSETTO:-0400
END:DAYLIGHT
END:VTIMEZONE
END:VCALENDAR
